BEGIN:VCALENDAR
VERSION:2.0
PRODID:-//Sollentuna Södra Kappseglingssällskap - ECPv6.15.20//NONSGML v1.0//EN
CALSCALE:GREGORIAN
METHOD:PUBLISH
X-WR-CALNAME:Sollentuna Södra Kappseglingssällskap
X-ORIGINAL-URL:http://ssks.nu
X-WR-CALDESC:Händelser för Sollentuna Södra Kappseglingssällskap
REFRESH-INTERVAL;VALUE=DURATION:PT1H
X-Robots-Tag:noindex
X-PUBLISHED-TTL:PT1H
BEGIN:VTIMEZONE
TZID:Europe/Stockholm
BEGIN:DAYLIGHT
TZOFFSETFROM:+0100
TZOFFSETTO:+0200
TZNAME:CEST
DTSTART:20220327T010000
END:DAYLIGHT
BEGIN:STANDARD
TZOFFSETFROM:+0200
TZOFFSETTO:+0100
TZNAME:CET
DTSTART:20221030T010000
END:STANDARD
BEGIN:DAYLIGHT
TZOFFSETFROM:+0100
TZOFFSETTO:+0200
TZNAME:CEST
DTSTART:20230326T010000
END:DAYLIGHT
BEGIN:STANDARD
TZOFFSETFROM:+0200
TZOFFSETTO:+0100
TZNAME:CET
DTSTART:20231029T010000
END:STANDARD
BEGIN:DAYLIGHT
TZOFFSETFROM:+0100
TZOFFSETTO:+0200
TZNAME:CEST
DTSTART:20240331T010000
END:DAYLIGHT
BEGIN:STANDARD
TZOFFSETFROM:+0200
TZOFFSETTO:+0100
TZNAME:CET
DTSTART:20241027T010000
END:STANDARD
END:VTIMEZONE
BEGIN:VEVENT
DTSTART;TZID=Europe/Stockholm:20230615T150000
DTEND;TZID=Europe/Stockholm:20230615T170000
DTSTAMP:20260420T193631
CREATED:20230615T132818Z
LAST-MODIFIED:20230615T132818Z
UID:172-1686841200-1686848400@ssks.nu
SUMMARY:Träning inför SM/JSM
DESCRIPTION:Träning inför SM/JSM i Åre 6-9 juli 2023. Anmälda besättningar uppmuntras att delta för att träna att tävla. Tidigare deltagare och andra intresserade är välkomna att ge tips eller utmana de som ska åka.
URL:http://ssks.nu/event/traning-infor-sm-jsm/
LOCATION:Skutan\, Mårdvägen 17\, Sollentuna\, Sverige
CATEGORIES:Träning
END:VEVENT
BEGIN:VEVENT
DTSTART;TZID=Europe/Stockholm:20230626T170000
DTEND;TZID=Europe/Stockholm:20230626T190000
DTSTAMP:20260420T193631
CREATED:20230615T132903Z
LAST-MODIFIED:20230615T132903Z
UID:174-1687798800-1687806000@ssks.nu
SUMMARY:Träning inför SM/JSM
DESCRIPTION:Träning inför SM/JSM i Åre 6-9 juli 2023. Anmälda besättningar uppmuntras att delta för att träna att tävla. Tidigare deltagare och andra intresserade är välkomna att ge tips eller utmana de som ska åka.
URL:http://ssks.nu/event/traning-infor-sm-jsm-2/
LOCATION:Skutan\, Mårdvägen 17\, Sollentuna\, Sverige
CATEGORIES:Träning
END:VEVENT
END:VCALENDAR